BEGIN:VCALENDAR
VERSION:2.0
PRODID:icalendar-ruby
CALSCALE:GREGORIAN
METHOD:PUBLISH
BEGIN:VEVENT
DTSTAMP:20260419T131726Z
UID:647-6321088@thecathedral.ca
DTSTART:20260425T023000Z
DTEND:20260425T040000Z
CLASS:PUBLIC
CREATED:20260416T145159
DESCRIPTION:The Cathedral is pleased to announce the third in a series of c
 hamber music concerts featuring Nancy DiNovo &amp\; Friends\, presenting w
 orks for piano and strings. To celebrate the coming of spring\, violinist 
 Nancy DiNovo will be joined by pianist Rosemary O'Connor in a SPRING SEREN
 ADE\, a duo recital featuring Beethoven’’s iconic “Spring” Sonata 
 No. 5 in F Major Opus 24\, Prokofiev’s haunting and enigmatic Five Melod
 ies Opus 35\, and Faure’s youthful Sonata in A Major Opus 13\, written i
 n the first full flush of love. Engaging commentary by the performers will
  enhance the experience of these masterpieces.\n\n“Seating in the chance
 l provides our audience members with the personal intimacy of a smaller ve
 nue. My colleagues and I always look forward with great excitement to perf
 orm these incredibly beautiful works for our audience in the magical acous
 tics of Christ Church Cathedral.”\nEvent: A Spring Serenade\nDate: Frida
 y\, April 24th\, 2026\nTime: 7:30pm – 9:00pm\nLocation: Christ Church Ca
 thedral\, 690 Burrard Street (at Georgia)\nAdmission: $25 or pay what you 
 can
LAST-MODIFIED:20260416T145159
LOCATION:
SUMMARY:A Spring Serenade
URL;VALUE=URI:https://www.thecathedral.ca/events/a-spring-serenade/2026-04-
 24
ATTACH;FILENAME=Screenshot 2026-04-16 at 12.54.02 PM.png;FMTTYPE=image/png:
 https://dq5pwpg1q8ru0.cloudfront.net/2026/04/17/16/25/38/a738aba3-696b-477
 9-bbe6-a6fe86be5273/Screenshot%202026-04-16%20at%2012.54.02%20PM.png
END:VEVENT
END:VCALENDAR
