BEGIN:VCALENDAR
VERSION:2.0
PRODID:icalendar-ruby
CALSCALE:GREGORIAN
METHOD:PUBLISH
BEGIN:VEVENT
DTSTAMP:20260422T231421Z
UID:235-6462296@thecathedral.ca
DTSTART:20230907T191500Z
DTEND:20230907T194500Z
CLASS:PUBLIC
CREATED:20260422T153604
DESCRIPTION:Join us at our Eucharist for the city on Thursdays.\nA short Eu
 charist service designed for those who work downtown to attend during thei
 r lunch hour.
LAST-MODIFIED:20260422T153604
LOCATION:At the Cathedral
SUMMARY:Eucharist
URL;VALUE=URI:https://www.thecathedral.ca/events/eucharist--235/2023-09-07
END:VEVENT
END:VCALENDAR
