BEGIN:VCALENDAR
VERSION:2.0
PRODID:icalendar-ruby
CALSCALE:GREGORIAN
METHOD:PUBLISH
BEGIN:VEVENT
DTSTAMP:20260425T103459Z
UID:235-6512426@thecathedral.ca
DTSTART:20231019T191500Z
DTEND:20231019T194500Z
CLASS:PUBLIC
CREATED:20260424T180431
DESCRIPTION:Join us at our Eucharist for the city on Thursdays.\nA short Eu
 charist service designed for those who work downtown to attend during thei
 r lunch hour.
LAST-MODIFIED:20260424T180431
LOCATION:At the Cathedral
SUMMARY:Eucharist
URL;VALUE=URI:https://www.thecathedral.ca/events/eucharist--235/2023-10-19
END:VEVENT
END:VCALENDAR
