BEGIN:VCALENDAR
VERSION:2.0
PRODID:icalendar-ruby
CALSCALE:GREGORIAN
METHOD:PUBLISH
BEGIN:VEVENT
DTSTAMP:20260425T142229Z
UID:235-6520136@thecathedral.ca
DTSTART:20231102T191500Z
DTEND:20231102T194500Z
CLASS:PUBLIC
CREATED:20260425T063451
DESCRIPTION:Join us at our Eucharist for the city on Thursdays.\nA short Eu
 charist service designed for those who work downtown to attend during thei
 r lunch hour.
LAST-MODIFIED:20260425T063451
LOCATION:At the Cathedral
SUMMARY:Eucharist
URL;VALUE=URI:https://www.thecathedral.ca/events/eucharist--235/2023-11-02
END:VEVENT
END:VCALENDAR
