BEGIN:VCALENDAR
VERSION:2.0
PRODID:icalendar-ruby
CALSCALE:GREGORIAN
METHOD:PUBLISH
BEGIN:VEVENT
DTSTAMP:20260420T004034Z
UID:235-6389320@thecathedral.ca
DTSTART:20241226T201500Z
DTEND:20241226T204500Z
CLASS:PUBLIC
CREATED:20260419T152051
DESCRIPTION:Join us at our Eucharist for the city on Thursdays.\nA short Eu
 charist service designed for those who work downtown to attend during thei
 r lunch hour.
LAST-MODIFIED:20260419T152051
LOCATION:At the Cathedral
SUMMARY:Eucharist
URL;VALUE=URI:https://www.thecathedral.ca/events/eucharist--235/2024-12-26
END:VEVENT
END:VCALENDAR
