BEGIN:VCALENDAR
VERSION:2.0
PRODID:icalendar-ruby
CALSCALE:GREGORIAN
METHOD:PUBLISH
BEGIN:VEVENT
DTSTAMP:20260426T023513Z
UID:235-6535638@thecathedral.ca
DTSTART:20250703T191500Z
DTEND:20250703T194500Z
CLASS:PUBLIC
CREATED:20260425T172050
DESCRIPTION:Join us at our Eucharist for the city on Thursdays.\nA short Eu
 charist service designed for those who work downtown to attend during thei
 r lunch hour.
LAST-MODIFIED:20260425T172050
LOCATION:At the Cathedral
SUMMARY:Eucharist
URL;VALUE=URI:https://www.thecathedral.ca/events/eucharist--235/2025-07-03
END:VEVENT
END:VCALENDAR
