BEGIN:VCALENDAR
VERSION:2.0
PRODID:icalendar-ruby
CALSCALE:GREGORIAN
METHOD:PUBLISH
BEGIN:VEVENT
DTSTAMP:20260419T224757Z
UID:235-6389406@thecathedral.ca
DTSTART:20260820T191500Z
DTEND:20260820T194500Z
CLASS:PUBLIC
CREATED:20260419T152052
DESCRIPTION:Join us at our Eucharist for the city on Thursdays.\nA short Eu
 charist service designed for those who work downtown to attend during thei
 r lunch hour.
LAST-MODIFIED:20260419T152052
LOCATION:At the Cathedral
SUMMARY:Eucharist
URL;VALUE=URI:https://www.thecathedral.ca/events/eucharist--235/2026-08-20
END:VEVENT
END:VCALENDAR
