BEGIN:VCALENDAR
VERSION:2.0
PRODID:icalendar-ruby
CALSCALE:GREGORIAN
METHOD:PUBLISH
BEGIN:VEVENT
DTSTAMP:20260422T122538Z
UID:235-6447065@thecathedral.ca
DTSTART:20261008T191500Z
DTEND:20261008T194500Z
CLASS:PUBLIC
CREATED:20260422T035712
DESCRIPTION:Join us at our Eucharist for the city on Thursdays.\nA short Eu
 charist service designed for those who work downtown to attend during thei
 r lunch hour.
LAST-MODIFIED:20260422T035712
LOCATION:At the Cathedral
SUMMARY:Eucharist
URL;VALUE=URI:https://www.thecathedral.ca/events/eucharist--235/2026-10-08
END:VEVENT
END:VCALENDAR
