BEGIN:VCALENDAR
VERSION:2.0
PRODID:icalendar-ruby
CALSCALE:GREGORIAN
METHOD:PUBLISH
BEGIN:VEVENT
DTSTAMP:20260421T162242Z
UID:186-6431192@thecathedral.ca
DTSTART:20251002T143000Z
DTEND:20251002T153000Z
CLASS:PUBLIC
CREATED:20260421T090438
DESCRIPTION:This group of early risers gathers at 7:30am on Thursday mornin
 gs for a weekday Eucharist service. After the service the group gathers fo
 r breakfast and conversation.\nThe group takes turns reading the Gospel\, 
 serving at the altar\, reading the intercessions\, and preparing breakfast
 . \nTo learn more contact reception@thecathedral.ca
LAST-MODIFIED:20260421T090438
LOCATION:Christ Church Cathedral
SUMMARY:Eucharist & Breakfast
URL;VALUE=URI:https://www.thecathedral.ca/events/eucharist-breakfast/2025-1
 0-02
END:VEVENT
END:VCALENDAR
