BEGIN:VCALENDAR
VERSION:2.0
PRODID:icalendar-ruby
CALSCALE:GREGORIAN
METHOD:PUBLISH
BEGIN:VEVENT
DTSTAMP:20260419T135659Z
UID:648-6321087@thecathedral.ca
DTSTART:20260424T210000Z
DTEND:20260424T230000Z
CLASS:PUBLIC
CREATED:20260416T125809
DESCRIPTION:Our next showing will be Babette’s Feast (1987\;102 minutes) 
 on Friday\, April 24th at 2 pm in the Park Room. Discussion afterwards for
  those who can stay.\nBy Donation.\nPlease bring your own coffee and snack
 s.\nThis Oscar-winning movie follows two religious sisters whose lives and
  community are altered forever when their French refugee maid wins a lotte
 ry and uses her winnings to prepare a sumptuous feast for her ascetic mist
 resses and their congregation. Based on a short story by Isak Dinesen\, th
 e movie draws on themes of hospitality\, nourishment and God’s grace.\n\
 nDue to space limitations\, please register for this event by emailing rec
 eption@thecathedral.ca. We hope you can join us!\nNicky Seppala\, Susan Ko
 ppersmith and Donna Marlatte.
LAST-MODIFIED:20260416T125809
LOCATION:Park Room
SUMMARY:Finding God in Movies
URL;VALUE=URI:https://www.thecathedral.ca/events/finding-god-in-movies/2026
 -04-24
ATTACH;FILENAME=__babettesfeast2.jpg;FMTTYPE=image/jpeg:https://dq5pwpg1q8r
 u0.cloudfront.net/2026/04/16/19/57/16/74b17036-79f0-4d87-9f89-8f2f854f4fdd
 /__babettesfeast2.jpg
END:VEVENT
END:VCALENDAR
