BEGIN:VCALENDAR
VERSION:2.0
PRODID:icalendar-ruby
CALSCALE:GREGORIAN
METHOD:PUBLISH
BEGIN:VEVENT
DTSTAMP:20260423T193003Z
UID:650-6463234@thecathedral.ca
DTSTART:20260426T161500Z
DTEND:20260426T171500Z
CLASS:PUBLIC
CREATED:20260422T174930
DESCRIPTION:The Cathedral is hoping to be open as a sanctuary for prayer se
 ven days a week from 9:30am to 8:30pm from June 10 to July 10.\nWith that 
 in mind\, we are reaching out not only to the Cathedral congregation but a
 lso to all congregations within the Diocese of New Westminster to help. We
  would love it if you would join the Cathedral team and get involved to ke
 ep our doors open as a place of prayer for the city and visitors during th
 is time. \nDo you like interacting with people? Perhaps you have cultural
  ties with the nations we know will play in Vancouver – Australia\, Belg
 ium\, Egypt\, New Zealand\, Qatar or Switzerland? Or even speak a language
  other than English? Your interests\, talents and background can make the 
 Cathedral an even more welcome place for visitors! \nJoin us on Sunday Ap
 ril 26th at 9:15 am in the Park Room and learn how you can get involved in
  what promises to be an interesting time for Vancouver and the Cathedral. 
 And if you already know you want in on this exciting initiative\, please s
 ign-up here to let us know the times you are interested in volunteering.\n
 If you are unable to attend the in-person information session on Sunday\, 
 we are holding an online session on Monday April 27th at 5:30 pm\, please 
 register here to obtain a link to learn more.
LAST-MODIFIED:20260422T174930
LOCATION:Park Room
SUMMARY:Get Involved with the FIFA World Cup
URL;VALUE=URI:https://www.thecathedral.ca/events/get-involved-with-the-fifa
 -world-cup/2026-04-26
ATTACH;FILENAME=FIFA Banner YVR-all.png;FMTTYPE=image/png:https://dq5pwpg1q
 8ru0.cloudfront.net/2026/04/23/00/48/34/efb6ae60-d2d1-42e1-bf3f-1181e71478
 d1/FIFA%20Banner%20YVR-all.png
END:VEVENT
END:VCALENDAR
