BEGIN:VCALENDAR
VERSION:2.0
PRODID:icalendar-ruby
CALSCALE:GREGORIAN
METHOD:PUBLISH
BEGIN:VEVENT
DTSTAMP:20260424T120445Z
UID:583-6494001@thecathedral.ca
DTSTART:20261101T183000Z
DTEND:20261101T193000Z
CLASS:PUBLIC
CREATED:20260424T035758
DESCRIPTION:Starting on Sunday\, September 14th\, during the 10:30 AM servi
 ce\, we will be starting our children's Sunday school program again. Child
 ren are invited to come downstairs to the Park Room for a Godly Play* less
 on. They will come back upstairs and rejoin parents for communion. \n*God
 ly Play is a beautiful and thoughtful Montessori-informed approach that nu
 rtures children's spirituality as they engage with the stories and sacrame
 nts of the church. It was developed by Dr. Jerome Berryman\, an American A
 nglican priest. \n---\nOur planned sessions are: \nSept 14 - Circle of t
 he church year\nSept 21 - The bible\nSept 28 - The holy family\nOct 5 - Cr
 eation\nOct 12 (Thanksgiving) - bible story and outreach activity for our 
 Maundy Cafe (Christ Church's food ministry)
LAST-MODIFIED:20260424T035758
LOCATION:Park Room
SUMMARY:Godly Play 
URL;VALUE=URI:https://www.thecathedral.ca/events/godly-play/2026-11-01
ATTACH;FILENAME=Fall 2025 Godly Play.png;FMTTYPE=image/png:https://dq5pwpg1
 q8ru0.cloudfront.net/2025/09/04/19/33/41/27d2c38c-a94d-46f6-a589-69fbf0a08
 0b3/Fall%202025%20Godly%20Play.png
END:VEVENT
END:VCALENDAR
